BEGIN:VCALENDAR
VERSION:2.0
PRODID:-//A Community of Transformation - ECPv6.15.20//NONSGML v1.0//EN
CALSCALE:GREGORIAN
METHOD:PUBLISH
X-WR-CALNAME:A Community of Transformation
X-ORIGINAL-URL:https://actannapolis.org
X-WR-CALDESC:Events for A Community of Transformation
REFRESH-INTERVAL;VALUE=DURATION:PT1H
X-Robots-Tag:noindex
X-PUBLISHED-TTL:PT1H
BEGIN:VTIMEZONE
TZID:America/New_York
BEGIN:DAYLIGHT
TZOFFSETFROM:-0500
TZOFFSETTO:-0400
TZNAME:EDT
DTSTART:20240310T070000
END:DAYLIGHT
BEGIN:STANDARD
TZOFFSETFROM:-0400
TZOFFSETTO:-0500
TZNAME:EST
DTSTART:20241103T060000
END:STANDARD
BEGIN:DAYLIGHT
TZOFFSETFROM:-0500
TZOFFSETTO:-0400
TZNAME:EDT
DTSTART:20250309T070000
END:DAYLIGHT
BEGIN:STANDARD
TZOFFSETFROM:-0400
TZOFFSETTO:-0500
TZNAME:EST
DTSTART:20251102T060000
END:STANDARD
BEGIN:DAYLIGHT
TZOFFSETFROM:-0500
TZOFFSETTO:-0400
TZNAME:EDT
DTSTART:20260308T070000
END:DAYLIGHT
BEGIN:STANDARD
TZOFFSETFROM:-0400
TZOFFSETTO:-0500
TZNAME:EST
DTSTART:20261101T060000
END:STANDARD
END:VTIMEZONE
BEGIN:VEVENT
DTSTART;TZID=America/New_York:20251003T163000
DTEND;TZID=America/New_York:20251005T130000
DTSTAMP:20260420T092510
CREATED:20250818T184453Z
LAST-MODIFIED:20250818T184453Z
UID:10002382-1759509000-1759669200@actannapolis.org
SUMMARY:HEALING FOR HEALERS: A retreat with Dr. Stephany Porter and Dr. Teresa Shattuck
DESCRIPTION:More information and registration HERE
URL:https://actannapolis.org/event/healing-for-healers-a-retreat-with-dr-stephany-porter-and-dr-teresa-shattuck/
LOCATION:Three Otters\, 8497 Low Line Road\, Great Cacapon\, WV\, 25422\, United States
CATEGORIES:Sponsored Programs
GEO:39.5795006;-78.4144288
X-APPLE-STRUCTURED-LOCATION;VALUE=URI;X-ADDRESS=Three Otters 8497 Low Line Road Great Cacapon WV 25422 United States;X-APPLE-RADIUS=500;X-TITLE=8497 Low Line Road:geo:-78.4144288,39.5795006
END:VEVENT
END:VCALENDAR