BEGIN:VCALENDAR
VERSION:2.0
PRODID:-//A Community of Transformation - ECPv6.15.20//NONSGML v1.0//EN
CALSCALE:GREGORIAN
METHOD:PUBLISH
X-ORIGINAL-URL:https://actannapolis.org
X-WR-CALDESC:Events for A Community of Transformation
REFRESH-INTERVAL;VALUE=DURATION:PT1H
X-Robots-Tag:noindex
X-PUBLISHED-TTL:PT1H
BEGIN:VTIMEZONE
TZID:America/New_York
BEGIN:DAYLIGHT
TZOFFSETFROM:-0500
TZOFFSETTO:-0400
TZNAME:EDT
DTSTART:20240310T070000
END:DAYLIGHT
BEGIN:STANDARD
TZOFFSETFROM:-0400
TZOFFSETTO:-0500
TZNAME:EST
DTSTART:20241103T060000
END:STANDARD
BEGIN:DAYLIGHT
TZOFFSETFROM:-0500
TZOFFSETTO:-0400
TZNAME:EDT
DTSTART:20250309T070000
END:DAYLIGHT
BEGIN:STANDARD
TZOFFSETFROM:-0400
TZOFFSETTO:-0500
TZNAME:EST
DTSTART:20251102T060000
END:STANDARD
BEGIN:DAYLIGHT
TZOFFSETFROM:-0500
TZOFFSETTO:-0400
TZNAME:EDT
DTSTART:20260308T070000
END:DAYLIGHT
BEGIN:STANDARD
TZOFFSETFROM:-0400
TZOFFSETTO:-0500
TZNAME:EST
DTSTART:20261101T060000
END:STANDARD
BEGIN:DAYLIGHT
TZOFFSETFROM:-0500
TZOFFSETTO:-0400
TZNAME:EDT
DTSTART:20270314T070000
END:DAYLIGHT
BEGIN:STANDARD
TZOFFSETFROM:-0400
TZOFFSETTO:-0500
TZNAME:EST
DTSTART:20271107T060000
END:STANDARD
END:VTIMEZONE
BEGIN:VEVENT
DTSTART;TZID=America/New_York:20260412T140000
DTEND;TZID=America/New_York:20260412T160000
DTSTAMP:20260420T062206
CREATED:20260313T185553Z
LAST-MODIFIED:20260409T164507Z
UID:10002407-1776002400-1776009600@actannapolis.org
SUMMARY:"Higher Realms and the Energy World We Live In" with Alison Cullinane
DESCRIPTION:We’re shifting into the Aquarian Age and a new Galactic Beam. Are we ready? How do we best respond to the shifts we all are experiencing?  \nWe live in an Energy World and  can create a Conceptual Map of those energies where the energetic beings reside and wish to  communicate. Let’s explore some common myths about what higher beings are up to\, how higher frequency beings connect with us\, and what can disrupt that connection. \nThis talk will present some of the information that has been coming through to Alison over the past three years in her work with Crystal Healing and Co-creative Gardening. \nParticipants will receive: \n\nAn introduction to new concepts on how the energetic world works\nGreater understanding of how connection to Spirit works.\n\nDuring her talk\, Alison will: \n\nHelp us understand aspects of connecting with a Being from the Higher Realms\nExplore Myths and truths about what Beings from the Higher Realms are able to do\nShare knowledge of Energetic Systems that are part of the world we live in\n\nAttendees leave with: \n\nA wider view and understanding of the Energetic World\nA better understanding of how Beings from the Higher Realms interact with us.\n\nBIO: \nAlison Cullinane is a Certified Crystal Practitioner and Reiki Master. She has been an ACT member for several years and has consistently supported our efforts to get new information out to people who are seeking Spirit. Her work in Co-creative Gardening started her on the path of learning and exploring unusual ways of collaborating with Guidance. Training in crystal healing with the Hibiscus Moon Crystal Academy broadened that path.She is a Holy Fire III Karuna Reiki Master with 3 years of experience as a Healing Practitioner\, and 5 years of experience as a Co-creative Gardener. \n  \n  \n  \nMusic for the day is offered by Jaxon Phoenix \nBIO: \n \n  \nJaxon Phoenix is a handpan musician known for creating immersive\, soul-centered sound experiences that invite stillness\, reflection\, and emotional release. Performing in yoga studios\, workshops\, and meditation spaces\, he has collaborated with many yoga studio owners throughout the DMV area. His intuitive playing blends rhythm\, atmosphere\, and presence—guiding listeners into a deeper connection with themselves. \nHe is also a published author through Quoir Publishing\, with his book Only Us\, and the host of Safe Space w/ Jaxon on Spotify. \n  \n 
URL:https://actannapolis.org/event/higher-realms-and-the-energy-world-we-live-in-with-alison-cullinane/
LOCATION:Friends\, 351 Dubois Road\, Annapolis\, MD\, 21401\, United States
CATEGORIES:ACT Event,Monthly Gatherings
ORGANIZER;CN="Carol Robbins":MAILTO:drcarolrobbins@gmail.com
GEO:39.0016827;-76.5253596
X-APPLE-STRUCTURED-LOCATION;VALUE=URI;X-ADDRESS=Friends 351 Dubois Road Annapolis MD 21401 United States;X-APPLE-RADIUS=500;X-TITLE=351 Dubois Road:geo:-76.5253596,39.0016827
END:VEVENT
BEGIN:VEVENT
DTSTART;TZID=America/New_York:20260308T140000
DTEND;TZID=America/New_York:20260308T160000
DTSTAMP:20260420T062206
CREATED:20260119T180644Z
LAST-MODIFIED:20260303T175945Z
UID:10002406-1772978400-1772985600@actannapolis.org
SUMMARY:"Initiated Into the Infinite\, Expanding Consciousness Beyond the Known"  with Karin Sokel
DESCRIPTION:Though Karin’s presentation she will: \n\nClarify the universal I AM vs. the personal “I am” that shapes identity and destiny.\nDemonstrate how coherence transforms the brain\, body\, and energy field for conscious creation.\nExplore “initiation” as the evolutionary process that can dissolve the old identity to reveal the I AM.\nTeach practical methods to shift us from survival to elevated emotional states to attune to a new\, desired future.\n\nWe will learn to:  \n\nRecognize how thoughts and emotions create a state of being that creates their personality and personal reality.\nApply simple tools to regulate the nervous system and embody a new identity.\nGenerate coherence in the heart and brain to access the core of who you are – the I AM within.\n\nWe will leave with: \n\nA clear understanding of the universal I AM vs. the personal “I am” — and how each shapes destiny.\nPractical tools for self-regulation\, coherence\, and shifting out of the stress response.\nA method for generating elevated emotions that supports healing\, clarity and creation.\nA reframed view of challenge as “initiation” into deeper levels of awareness.\nA deeper connection to the universal I AM.\n\nBIO: Karin Sokel\nKarin weaves science\, lived mystical experience\, and two decades of advanced study with Dr. Joe Dispenza into a grounded\, heart-centered approach to transformation. Her path was shaped by a 2006 Johns Hopkins study that opened her awareness to the loving intelligence of the “I AM” and deepened her devotion to human potential. Through her life coaching practice\, InFlow Coaching\, she integrates Dr. Joe’s principles to support meaningful change. As a Certified NeuroChange Solutions Consultant and past Team Leader for Dr. Joe’s advanced retreats\, Karin helps ACT attendees cultivate clarity\, resilience\, and inner alignment\, reconnecting them with their own expansive possibility. \n 
URL:https://actannapolis.org/event/initiated-into-the-infinite-expanding-consciousness-beyond-the-known-with-karin-sokel/
LOCATION:Friends\, 351 Dubois Road\, Annapolis\, MD\, 21401\, United States
CATEGORIES:ACT Event,Monthly Gatherings
ORGANIZER;CN="Carol Robbins":MAILTO:drcarolrobbins@gmail.com
GEO:39.0016827;-76.5253596
X-APPLE-STRUCTURED-LOCATION;VALUE=URI;X-ADDRESS=Friends 351 Dubois Road Annapolis MD 21401 United States;X-APPLE-RADIUS=500;X-TITLE=351 Dubois Road:geo:-76.5253596,39.0016827
END:VEVENT
BEGIN:VEVENT
DTSTART;TZID=America/New_York:20260208T140000
DTEND;TZID=America/New_York:20260208T160000
DTSTAMP:20260420T062206
CREATED:20260112T233508Z
LAST-MODIFIED:20260203T232644Z
UID:10002405-1770559200-1770566400@actannapolis.org
SUMMARY:February Gathering: “Life Mastery and Living your Best Life: How the philosophy of Shuhari applies to personal growth” with Rev. Dr. Raymont Anderson
DESCRIPTION:Let’s learn about the Japanese term Shuhari.  Raymont will describe the differences between a technician of a skill and an artist\, and the life benefits of artistry. \nDuring his talk Raymont will guide us as we: \n\nExplore the concept of life mastery.\nApply the concepts in real time to aspects of our lives.\nGain understanding of what it means to live the principles beyond simply practicing them.\n\nWe will leave with tools to discern what is and is not Life-Affirming\, practices to enhance the quality and meaning of life\, and leverage our mental equivalents in ways that have a profound impact on our lives\, relationships\, finances\, etc. \nBIO:\nRev. Dr. Raymont Anderson is a multifaceted New Thought and interfaith minister\, life coach\, educator\, performer\, and artist. As the founding minister and Spiritual Director of The Center for Spiritually Integrated Arts\, he weaves together spiritual principles\, storytelling\, humor\, and creative expression. Formerly a public school teacher and university professor\, he brings his background in visual arts\, ASL\, martial arts\, and theatre to his ministry. As a minister\, performer\, educator\, Reiki master\, author\, and workshop facilitator he is deeply committed to empowering people through radical self-care\, purpose-driven living\, and spiritual awakening. \nMusic for our gathering offered by Chad Holmes\, with Laura Abramson \nChad is a drummer\, facilitator\, sound healer\, singer-songwriter\, and strategy & change leadership consultant in the Annapolis area. His passions include sharing spiritual healing through music and guiding organizations through empowered transitions to sustainable\, socially-responsible operations and cultures. \n 
URL:https://actannapolis.org/event/february-gathering-shuhari-moving-from-technician-to-artist-of-your-life-with-rev-dr-raymont-anderson/
LOCATION:Friends\, 351 Dubois Road\, Annapolis\, MD\, 21401\, United States
CATEGORIES:ACT Event,Monthly Gatherings
ORGANIZER;CN="Carol Robbins":MAILTO:drcarolrobbins@gmail.com
GEO:39.0016827;-76.5253596
X-APPLE-STRUCTURED-LOCATION;VALUE=URI;X-ADDRESS=Friends 351 Dubois Road Annapolis MD 21401 United States;X-APPLE-RADIUS=500;X-TITLE=351 Dubois Road:geo:-76.5253596,39.0016827
END:VEVENT
BEGIN:VEVENT
DTSTART;TZID=America/New_York:20260111T140000
DTEND;TZID=America/New_York:20260111T160000
DTSTAMP:20260420T062206
CREATED:20251113T200659Z
LAST-MODIFIED:20251229T204614Z
UID:10002401-1768140000-1768147200@actannapolis.org
SUMMARY:Write Your Dream Life: A Powerful Tool for New Beginnings with Laura Di Franco
DESCRIPTION:When the New Year rings in\, we’re all happy to have a fresh start\, hit the reset button\, and manifest our lives in new\, powerful ways. But we tend to keep telling the same stories about our lives that actually keep us stuck in the past and in our current reality\, both of which may not lead to what we hope for. \n \nIn this workshop-style talk\, Laura Di Franco\, the CEO of Brave Healer Productions Publishing and the founder of the Brave Story Medicine™ method\, will guide us in writing our dream lives and begin the year with a tool that could change everything. Make sure to bring your notebook and pen! \nBIO:\nLaura Di Franco is the CEO of Brave Healer Productions (including Brave Kids Books and Brave Business Books)\, an award-winning publisher for holistic health\, wellness\, and business professionals. The mission—to help the world experience what’s possible. Her background includes 30 years in holistic physical therapy\, 14 published books\, and a third-degree black belt. Brave Healer (with its global community of over 3000 authors) has published 100 Amazon bestselling titles. \nOur Music for January is offered by Teporah \nBIO:\nTeporah\, formally trained in composition\, piano\, and songwriting at Oberlin and Peabody conservatories\, as well as in Towson State’s jazz program\, was raised in a musical family with an oboe-toting\, guitar-picking mom\, and the music of the 60s and 70s to feed her soul. From Odetta to Debussy\, to Armenian rythmn\, her music is imbued with a uniquely inspired fusion of musical influences. \nTeporah blends these together to create spiritually-centered songs. She also composes and produces relaxing\, ambient piano music\, and music for TV\, film and ads.
URL:https://actannapolis.org/event/brave-story-medicine-creating-legacy-with-your-life-wisdom-with-laura-di-franco/
LOCATION:Friends\, 351 Dubois Road\, Annapolis\, MD\, 21401\, United States
CATEGORIES:ACT Event,Monthly Gatherings
ORGANIZER;CN="Carol Robbins":MAILTO:drcarolrobbins@gmail.com
GEO:39.0016827;-76.5253596
X-APPLE-STRUCTURED-LOCATION;VALUE=URI;X-ADDRESS=Friends 351 Dubois Road Annapolis MD 21401 United States;X-APPLE-RADIUS=500;X-TITLE=351 Dubois Road:geo:-76.5253596,39.0016827
END:VEVENT
BEGIN:VEVENT
DTSTART;TZID=America/New_York:20251214T150000
DTEND;TZID=America/New_York:20251214T180000
DTSTAMP:20260420T062206
CREATED:20251111T195638Z
LAST-MODIFIED:20251111T220922Z
UID:10002400-1765724400-1765735200@actannapolis.org
SUMMARY:Winter WHITE\, Be the LIGHT! It's a High Vibein' Holiday Party
DESCRIPTION:Please join us for a fun\, light-filled\, high vibe Holiday Social \n \nWe welcome friends new and old to join us to celebrate the holidays\, celebrate each other\, and continue our celebration of ACT’s 25th anniversary. Please join us\, Sunday\, December 14th from 3- 6pm at Annapolis Friends Meeting for a light-filled holiday gathering. \nThe theme is “Winter White\, Be the Light”\, honoring the light within each of us and expanding the light as we connect and spend time together. \nAs an extra special Holiday Gift\, we’ll enjoy music by Bob Sima and Shannon Plummer! \nWe’ll have beautiful decorations\, and fun activities to support connections and getting to know others on a deeper level. \n  \nWe are suggesting that folks dress in either white\, silver\, or anything sparkly\, as you feel inspired. \nFor drinks\, there will be wassail and a tasty holiday fruit-infused water. \nFor food\, we are encouraging folks to bring a dish to share. Savory or sweet\, your choice. \nWe’ll provide all the eating ware\, cutlery\, and dining items. \nAn optional $10 to $20 love donation is appreciated to help cover the event’s expenses. \nCome join us! Lots of good Vibes!
URL:https://actannapolis.org/event/winter-white-be-the-light-its-a-high-vibein-holiday-party/
LOCATION:Friends\, 351 Dubois Road\, Annapolis\, MD\, 21401\, United States
CATEGORIES:ACT Event,Monthly Gatherings,Special Celebrations
GEO:39.0016827;-76.5253596
X-APPLE-STRUCTURED-LOCATION;VALUE=URI;X-ADDRESS=Friends 351 Dubois Road Annapolis MD 21401 United States;X-APPLE-RADIUS=500;X-TITLE=351 Dubois Road:geo:-76.5253596,39.0016827
END:VEVENT
BEGIN:VEVENT
DTSTART;TZID=America/New_York:20251109T140000
DTEND;TZID=America/New_York:20251109T160000
DTSTAMP:20260420T062206
CREATED:20250915T193005Z
LAST-MODIFIED:20251024T213513Z
UID:10002384-1762696800-1762704000@actannapolis.org
SUMMARY:Connect with your Home Planet and Oversoul with Greg Martins
DESCRIPTION:In this presentation\, Greg will outline the concepts of Home Planets and the Oversoul; he will provide example Akashic Record Readings he has done for people. \nThrough his talk Greg will: \n\nShare how he developed his ability to retrieve information from people’s Akashic Records over the decades.\nShare readings he has done about people’s home planets\, and how they felt the information resonated with them.\nDiscuss the concept of the Oversoul – the higher part of our soul that typically resides on our Home Planet.\n\nThrough Greg’s presentation we will gain a sense that the concepts he shares appear to be valid. Those who resonate with this approach may want to learn about their own Home Planet and Oversoul as a way to deepen their own sense of wholeness and capability. \nBio: \nGreg began working with the Akashic Records (ARs) in 1993\, under the mentorship of Leah Stansell\, a dear friend who has successfully accessed the ARs for decades and works with the police on missing persons cases. \nHe wrote the book Star Journey Home: Connect with your Home Planet and Oversoul because as he looked into these concepts in peoples’ Akashic Records\, he found the discoveries to be consistently real. He now shares these concepts with the world. \nHe retired from NASA/Goddard Space Flight Center in 2018 after 35 years as an aerospace engineer. \n\nMusic for the program is offered by\nLaura Kucine\, Dennis Kolb and Gary Hardnett\n \n 
URL:https://actannapolis.org/event/connect-with-your-home-planet-and-oversoul-with-greg-martins/
LOCATION:Friends\, 351 Dubois Road\, Annapolis\, MD\, 21401\, United States
CATEGORIES:ACT Event,Monthly Gatherings
ORGANIZER;CN="Carol Robbins":MAILTO:drcarolrobbins@gmail.com
GEO:39.0016827;-76.5253596
X-APPLE-STRUCTURED-LOCATION;VALUE=URI;X-ADDRESS=Friends 351 Dubois Road Annapolis MD 21401 United States;X-APPLE-RADIUS=500;X-TITLE=351 Dubois Road:geo:-76.5253596,39.0016827
END:VEVENT
BEGIN:VEVENT
DTSTART;TZID=America/New_York:20251012T140000
DTEND;TZID=America/New_York:20251012T160000
DTSTAMP:20260420T062206
CREATED:20250922T195456Z
LAST-MODIFIED:20250923T194645Z
UID:10002385-1760277600-1760284800@actannapolis.org
SUMMARY:"Leading from Within -- How a Single Shift in Focus Can Change the World"-- Inspirational Words and Wisdom with Linda Roebuck\, Lilia Shoshanna Rae and Stephany Porter
DESCRIPTION:It is the 25th Anniversary Year for the creation of the ACT organization!  \nTo inspire this special year we are blessed to have ACT Founder\, Linda Roebuck with Lilia Shoshanna Rae and Dr. Stephany Porter leading the way forward. \n \nCome join Linda Roebuck\, Stephany Porter\, and Lilia Shoshanna Rae as we Celebrate\, Co-create and Bring in the Light to remember our roots and continue the transformation of ourselves\, our organization and our community. \nWe will: \n\nhonor the history of ACT and the development of the Circular Leadership model of governance that has helped ACT evolve and grow over the last 25 years.\ninvite you to experience the power of leading from within\, a shift in perspective that is at the core of Circular Leadership as practiced by the ACT Co-Creation Council.\nhelp you discover how leading from within can transform your life as it has transformed many in the ACT community\nexplore the future potential of this powerful practice of leading from within for yourself\, your family\, your life’s work\, and ACT.\n\nWe will weave together the past\, present and future in this exciting time together with music\, inspiration\, and connection. \n 
URL:https://actannapolis.org/event/leading-from-within-how-a-single-shift-in-focus-can-change-the-world-inspirational-words-and-wisdom-with-linda-roebuck-lilia-shoshanna-rae-and-stephany-porter/
LOCATION:Friends\, 351 Dubois Road\, Annapolis\, MD\, 21401\, United States
CATEGORIES:ACT Event,Monthly Gatherings
ORGANIZER;CN="Carol Robbins":MAILTO:drcarolrobbins@gmail.com
GEO:39.0016827;-76.5253596
X-APPLE-STRUCTURED-LOCATION;VALUE=URI;X-ADDRESS=Friends 351 Dubois Road Annapolis MD 21401 United States;X-APPLE-RADIUS=500;X-TITLE=351 Dubois Road:geo:-76.5253596,39.0016827
END:VEVENT
BEGIN:VEVENT
DTSTART;TZID=America/New_York:20250914T140000
DTEND;TZID=America/New_York:20250914T160000
DTSTAMP:20260420T062206
CREATED:20250729T192308Z
LAST-MODIFIED:20250809T152503Z
UID:10002381-1757858400-1757865600@actannapolis.org
SUMMARY:The Awakening of Eden Within offered by Elohi Magdalena Rosa
DESCRIPTION:A Living Transmission from the Temple of Anarayah\nOffered by Elohi Magdalena Rosa | September 14\, 2025\nHosted by A Community of Transformation (ACT) \nAs A Community of Transformation enters its 25th year of sacred service\, this gathering opens the portal not only to a new season but to a new era. We come together to honor the journey that has brought us here and to call forth the next 25 years\, guided by the wisdom of the heart\, the remembrance of Soul\, and the frequencies of Eden. \nTo mark this milestone\, ACT welcomes Elohi Magdalena Rosa\, co-midwife of the Temple of Anarayah\, for a sacred teaching and sound transmission entitled: \nThe Awakening of Eden Within\nA Voice Alchemy Transmission & Teaching from the Pillar of Remembrance \nIn this sacred gathering\, Elohi will share a brief reflection on her journey and how the ACT community has served as a Soul refuge and a point of activation along her path. Then\, she will guide attendees into a vibrational field of Edenic remembrance through: \n\n\nA sacred teaching on the time we are in \n\n\nA breath ritual to open the Temple Within \n\n\nA divine voice transmission from the Edenic blueprint of Love \n\n\nThe Temple of Anarayah\, anchoring on August 23rd with the Pillar of Remembrance\, carries the codes of the Original Eden\, and this transmission will invite participants to reawaken the divine harmony that lives within them. \nThis offering is for all who feel the call\, whether you are an ACT member or new to the community. We invite you to join us in this moment of convergence\, where we honor what has been and prepare the way for what is yet to come. \nMay the Awakening of Eden Within be the blessing that ushers ACT into its next 25 years of light. \nBio:  Elohi Magdalena Rosa is a Vessel Priestess\, Magdalene Flame Initiator\, and Oracle of the Temple of Anarayah. Rooted in the lineages of Isis\, Mary Magdalene\, and the Elohim\, she guides souls to reclaim their divine remembrance through sound alchemy\, light transmissions\, and sacred ceremony. As co-midwife of the Temple of Anarayah\, she opens living gateways for the Feminine Christ to rise on Earth\, inviting all who come into the tender power of their own holy becoming. \nVisit her website at: www.AnumaniSpeaks.com
URL:https://actannapolis.org/event/the-awakening-of-eden-within-offered-by-elohi-magdalena-rosa/
LOCATION:Friends\, 351 Dubois Road\, Annapolis\, MD\, 21401\, United States
CATEGORIES:ACT Event,Monthly Gatherings
ORGANIZER;CN="Carol Robbins":MAILTO:drcarolrobbins@gmail.com
GEO:39.0016827;-76.5253596
X-APPLE-STRUCTURED-LOCATION;VALUE=URI;X-ADDRESS=Friends 351 Dubois Road Annapolis MD 21401 United States;X-APPLE-RADIUS=500;X-TITLE=351 Dubois Road:geo:-76.5253596,39.0016827
END:VEVENT
BEGIN:VEVENT
DTSTART;TZID=America/New_York:20250518T140000
DTEND;TZID=America/New_York:20250518T160000
DTSTAMP:20260420T062206
CREATED:20250407T170304Z
LAST-MODIFIED:20250426T161716Z
UID:10002376-1747576800-1747584000@actannapolis.org
SUMMARY:May Gathering: Clearing Your Energy Pathways: Ancient Inca traditions of Saminchakuy and Saywachakuy with Dr. Dena Deglau
DESCRIPTION:During this session\, Dena will help us learn to clear and open our energy pathways using the ancient Inca traditions of Saminchakuy and Saywachakuy. These methods are designed to open the flow of sami\, the highest frequency healing energy that comes from being in harmony with the universe. \nParticipants will leave with specific techniques that can be used every day and a body awareness of higher vibrational energy states. \nBIO: \nDr. Dena Deglau is a Shamanic Practitioner and energy worker trained in the Andean tradition. Dena has been formally initiated\, trained and encouraged to pass on the traditions\, teachings and healings of the ancient Inca’s by Peruvian Masters Juan and Ivan Nunez del Prado. \nDena works with individual clients to clear energy blockages and begin deep healing at the soul level. She also works with groups to help clear blockages through shamanic journey meditations and teaching participants how to restore the natural flow of abundant energy to their luminous body\, by releasing heavy energy that accumulates in everyday life. \n  \n  \nOur Music for May is offered by Teporah \nBIO: \nTeporah\, formally trained in composition\, piano\, and songwriting at Oberlin and Peabody conservatories\, as well as in Towson State’s jazz program\, was raised in a musical family with an oboe-toting\, guitar-picking mom\, and the music of the 60s and 70s to feed her soul. From Odetta to Debussy\, to Armenian rythmn\, her music is imbued with a uniquely inspired fusion of musical influences. \nTeporah blends these together to create spiritually-centered songs. She also composes and produces relaxing\, ambient piano music\, and music for TV\, film and ads.
URL:https://actannapolis.org/event/may-gathering-clearing-your-energy-pathways-ancient-inca-traditions-of-saminchakuy-and-saywachakuy-with-dr-dena-deglau/
LOCATION:Friends\, 351 Dubois Road\, Annapolis\, MD\, 21401\, United States
CATEGORIES:ACT Event,Monthly Gatherings
ORGANIZER;CN="Carol Robbins":MAILTO:drcarolrobbins@gmail.com
GEO:39.0016827;-76.5253596
X-APPLE-STRUCTURED-LOCATION;VALUE=URI;X-ADDRESS=Friends 351 Dubois Road Annapolis MD 21401 United States;X-APPLE-RADIUS=500;X-TITLE=351 Dubois Road:geo:-76.5253596,39.0016827
END:VEVENT
END:VCALENDAR