BEGIN:VCALENDAR
VERSION:2.0
PRODID:-//A Community of Transformation - ECPv6.15.20//NONSGML v1.0//EN
CALSCALE:GREGORIAN
METHOD:PUBLISH
X-ORIGINAL-URL:https://actannapolis.org
X-WR-CALDESC:Events for A Community of Transformation
REFRESH-INTERVAL;VALUE=DURATION:PT1H
X-Robots-Tag:noindex
X-PUBLISHED-TTL:PT1H
BEGIN:VTIMEZONE
TZID:America/New_York
BEGIN:DAYLIGHT
TZOFFSETFROM:-0500
TZOFFSETTO:-0400
TZNAME:EDT
DTSTART:20240310T070000
END:DAYLIGHT
BEGIN:STANDARD
TZOFFSETFROM:-0400
TZOFFSETTO:-0500
TZNAME:EST
DTSTART:20241103T060000
END:STANDARD
BEGIN:DAYLIGHT
TZOFFSETFROM:-0500
TZOFFSETTO:-0400
TZNAME:EDT
DTSTART:20250309T070000
END:DAYLIGHT
BEGIN:STANDARD
TZOFFSETFROM:-0400
TZOFFSETTO:-0500
TZNAME:EST
DTSTART:20251102T060000
END:STANDARD
BEGIN:DAYLIGHT
TZOFFSETFROM:-0500
TZOFFSETTO:-0400
TZNAME:EDT
DTSTART:20260308T070000
END:DAYLIGHT
BEGIN:STANDARD
TZOFFSETFROM:-0400
TZOFFSETTO:-0500
TZNAME:EST
DTSTART:20261101T060000
END:STANDARD
BEGIN:DAYLIGHT
TZOFFSETFROM:-0500
TZOFFSETTO:-0400
TZNAME:EDT
DTSTART:20270314T070000
END:DAYLIGHT
BEGIN:STANDARD
TZOFFSETFROM:-0400
TZOFFSETTO:-0500
TZNAME:EST
DTSTART:20271107T060000
END:STANDARD
END:VTIMEZONE
BEGIN:VEVENT
DTSTART;TZID=America/New_York:20260328T173000
DTEND;TZID=America/New_York:20260328T213000
DTSTAMP:20260420T111945
CREATED:20260108T160700Z
LAST-MODIFIED:20260321T015752Z
UID:10002404-1774719000-1774733400@actannapolis.org
SUMMARY:25th Anniversary Gala
DESCRIPTION:We invite you to join us for an evening to celebrate the past and call in the future as we begin the next chapter in our journey to provide a space for individual and collective transformation. Twenty-five years ago Linda Roebuck began with a vision\, a newspaper advertisement and a group of like-minded souls who formed the original Co-Creation Council (Board of Directors). Over the years\, ACT has continued to be in service to a growing community\, providing a participatory space for spiritual expansion\, learning\, fellowship and loving kindness. \nThat was just the beginning. As we stand on the threshold of another 25 years\, let us begin with love\, joy\, and gratitude in our hearts. \nWe look forward to a future that is bright\, hopeful\, and full of possibilities as we come together to celebrate our Gala. We hope you will celebrate with us. \nDate: Saturday\, March 28\, 2026\nTime: 5:30-9:30 pm EDT\nLocation: Unity by the Bay\, 4 Pointless Forest Trail\, Annapolis\, MD\nAttire: Cocktail or Fancy Dress\nShould you feel called\, PURPLE and SILVER will be the colors for the night. \nActivities: \n\nReception with Live Music and Silent Auction\nCatered Dinner\nSpecial Keynote Speaker (in person!) – Christine Page\, MD\, Energy Intuitive\, Integrative Medicine pioneer\, and International Speaker\nDancing\n\nCome experience the fun and the joy of the evening. Please join us in celebrating this HUGE\, impressive milestone. \nGet your tickets while they last below: \nOur Keynote Speaker will address “Enhancing our Telepathic Skills with all that is Intelligent and Loving” \nAbstract: “Advanced information is going to be flooding into our psyches due to major planetary events over the next several years to awaken us to our divine purpose. We’re being called upon to refine our psychic and telepathic skills to resonate with the wisdom being offered. Telepathy is heart-to-heart communication where nothing is hidden and all is embraced in the power of love.” \nDr. Page will be signing copies of her new book\, The Magic of Mother Nature\, for those interested in purchasing it.  \n \nBIO:\nIntuitive since birth\, Christine R. Page\, M.D.\, has been a pioneer in the field of holistic healthcare for over 45 years\, focused on promoting ways to achieve spiritual health and wholeness. Using her psychic gifts\, she enjoys communicating across dimensions whether interacting with the souls of clients\, spirit guides or the nature kingdoms. As an international seminar leader and author of ten books\, her latest\, the Magic of Mother Nature\, she offers practical ways to strengthen innate telepathic skills\, essential for the creation of loving interactions with other light beings whether within the Nature kingdoms\, Inner Earth or our Star family. Through such resonant relationships joyful unity consciousness is achieved.
URL:https://actannapolis.org/event/25th-anniversary-gala/
LOCATION:Unity by the Bay\, 4 Pointless Forest Trail\, Annapolis\, MD\, 21409\, United States
CATEGORIES:ACT Event,Monthly Gatherings,Special Celebrations
ORGANIZER;CN="Carol Robbins":MAILTO:drcarolrobbins@gmail.com
GEO:39.0275316;-76.457722
X-APPLE-STRUCTURED-LOCATION;VALUE=URI;X-ADDRESS=Unity by the Bay 4 Pointless Forest Trail Annapolis MD 21409 United States;X-APPLE-RADIUS=500;X-TITLE=4 Pointless Forest Trail:geo:-76.457722,39.0275316
END:VEVENT
BEGIN:VEVENT
DTSTART;TZID=America/New_York:20250628T140000
DTEND;TZID=America/New_York:20250628T170000
DTSTAMP:20260420T111945
CREATED:20250529T171551Z
LAST-MODIFIED:20250604T202950Z
UID:10002378-1751119200-1751130000@actannapolis.org
SUMMARY:Come celebrate the life of Co-Founder and Anchor of ACT\, Ed Roebuck
DESCRIPTION:With tender hearts\, we share that Ed Roebuck\, the beloved husband of our founder\, Linda Roebuck\, made his sacred transition into Spirit on May 2. \nEd was a cherished part of our community—his presence\, kindness\, and quiet strength touched many. As we honor his journey onward\, we also hold Linda and their family in our prayers and hearts during this sacred time. \nWe know that Ed would not want us to be sad and instead would want us to celebrate not only his life but life itself. His family is holding a Celebration on June 28. You are invited. Details are below: \nACT is setting up a special fund in Ed’s name. You may donate to this fund here: \n\n\n\n 
URL:https://actannapolis.org/event/celebrate-the-life-of-co-founder-and-anchor-of-act-ed-roebuck/
LOCATION:Unity by the Bay\, 4 Pointless Forest Trail\, Annapolis\, MD\, 21409\, United States
CATEGORIES:ACT Event,Special Celebrations
GEO:39.0275316;-76.457722
X-APPLE-STRUCTURED-LOCATION;VALUE=URI;X-ADDRESS=Unity by the Bay 4 Pointless Forest Trail Annapolis MD 21409 United States;X-APPLE-RADIUS=500;X-TITLE=4 Pointless Forest Trail:geo:-76.457722,39.0275316
END:VEVENT
BEGIN:VEVENT
DTSTART;TZID=America/New_York:20250427T140000
DTEND;TZID=America/New_York:20250427T163000
DTSTAMP:20260420T111945
CREATED:20250214T162838Z
LAST-MODIFIED:20250417T221145Z
UID:10002317-1745762400-1745771400@actannapolis.org
SUMMARY:ACT Connect! A special event at a special time and place.
DESCRIPTION:Please join us for an extra special program! \nOur gifted business members share healing energy and wisdom with the audience from their repertoire of amazing skills and talents. \nWherever you are on your journey of transformation and being your best self\, there is something for everyone. \nAfter the presentations\, we are offering refreshments and an opportunity to meet and talk with the speakers individually. \nPlease feel free to arrive early. The setting is lovely AND be sure to pick up your free gift bag filled with gifts\, coupons\, and surprises\, for the first 60 attendees. \nThe location is super convenient. Unity by the Bay is just off Route 50 and there is plenty of parking. \n1:30 Doors Open\n2-4 pm Presentations\n4-4:30 Refreshments and Meet the Speakers \nHere is the line-up of presenters: \nRichard Bredeson\, Qigong Teacher\, Poet\nRosemary Bredeson\, The Scientific Mystic / Spiritual Mentor\nAtoussa Davis\, Sound and Frequency Healer\nDena Deglau\, Shamanic Practitioner\nLinda Helms\, Energy Intuitive\nCheryl Pace\, Energy Healing Practitioner\nStephany Porter\, Naturopathic Doctor\nLilia Shoshanna Rae\, Spiritual Guide\nSusan Richards\, Energy and Vibrational Alchemist\nGinny Robertson\, Founder – On Purpose Woman\nElohi Magdalena Rosa\, Channel & Sound Alchemist\nDebbie Ulrich\, Certified Energy Kinesiologist AND Certified Natural Health\nPractitioner \n 
URL:https://actannapolis.org/event/act-connect-a-special-event-at-a-special-time-and-place/
LOCATION:Unity by the Bay\, 4 Pointless Forest Trail\, Annapolis\, MD\, 21409\, United States
CATEGORIES:ACT Event,Monthly Gatherings
ORGANIZER;CN="Lilia":MAILTO:me@lilia.co
GEO:39.0275316;-76.457722
X-APPLE-STRUCTURED-LOCATION;VALUE=URI;X-ADDRESS=Unity by the Bay 4 Pointless Forest Trail Annapolis MD 21409 United States;X-APPLE-RADIUS=500;X-TITLE=4 Pointless Forest Trail:geo:-76.457722,39.0275316
END:VEVENT
END:VCALENDAR