BEGIN:VCALENDAR
VERSION:2.0
PRODID:-//A Community of Transformation - ECPv6.15.20//NONSGML v1.0//EN
CALSCALE:GREGORIAN
METHOD:PUBLISH
X-WR-CALNAME:A Community of Transformation
X-ORIGINAL-URL:https://actannapolis.org
X-WR-CALDESC:Events for A Community of Transformation
REFRESH-INTERVAL;VALUE=DURATION:PT1H
X-Robots-Tag:noindex
X-PUBLISHED-TTL:PT1H
BEGIN:VTIMEZONE
TZID:America/New_York
BEGIN:DAYLIGHT
TZOFFSETFROM:-0500
TZOFFSETTO:-0400
TZNAME:EDT
DTSTART:20240310T070000
END:DAYLIGHT
BEGIN:STANDARD
TZOFFSETFROM:-0400
TZOFFSETTO:-0500
TZNAME:EST
DTSTART:20241103T060000
END:STANDARD
BEGIN:DAYLIGHT
TZOFFSETFROM:-0500
TZOFFSETTO:-0400
TZNAME:EDT
DTSTART:20250309T070000
END:DAYLIGHT
BEGIN:STANDARD
TZOFFSETFROM:-0400
TZOFFSETTO:-0500
TZNAME:EST
DTSTART:20251102T060000
END:STANDARD
BEGIN:DAYLIGHT
TZOFFSETFROM:-0500
TZOFFSETTO:-0400
TZNAME:EDT
DTSTART:20260308T070000
END:DAYLIGHT
BEGIN:STANDARD
TZOFFSETFROM:-0400
TZOFFSETTO:-0500
TZNAME:EST
DTSTART:20261101T060000
END:STANDARD
END:VTIMEZONE
BEGIN:VEVENT
DTSTART;TZID=America/New_York:20250622T140000
DTEND;TZID=America/New_York:20250622T170000
DTSTAMP:20260420T074635
CREATED:20250529T170346Z
LAST-MODIFIED:20250529T170346Z
UID:10002377-1750600800-1750611600@actannapolis.org
SUMMARY:June Gathering: It’s Picnic Time\, June 22 2:00 to 5:00
DESCRIPTION:Please join us for a wonderful opportunity to meet new friends and enjoy fellowship with those in the ACT community. \nWe’ll provide ice tea/lemonade\, water\, and paper goods. \nYou can contribute by bringing any of the following: \n\nAppetizers\nSalads\nMain dishes\nSomething for the grill\nSide dishes\nDesserts\n\nSchedule: \n2-3:30 pm Mingle\, Enjoy the Food and Drink\, and Icebreaker\n3:30-4 pm Brief Program\n4-5 pm More Socializing and Picnicking
URL:https://actannapolis.org/event/june-gathering-its-picnic-time-june-22-200-to-500/
LOCATION:Francie & Dave Boyce\, 215 Mill Harbor Dr. \, Arnold\, MD\, United States
CATEGORIES:ACT Event,Monthly Gatherings
GEO:39.065981;-76.511323
X-APPLE-STRUCTURED-LOCATION;VALUE=URI;X-ADDRESS=Francie & Dave Boyce 215 Mill Harbor Dr.  Arnold MD United States;X-APPLE-RADIUS=500;X-TITLE=215 Mill Harbor Dr.:geo:-76.511323,39.065981
END:VEVENT
BEGIN:VEVENT
DTSTART;TZID=America/New_York:20250628T140000
DTEND;TZID=America/New_York:20250628T170000
DTSTAMP:20260420T074635
CREATED:20250529T171551Z
LAST-MODIFIED:20250604T202950Z
UID:10002378-1751119200-1751130000@actannapolis.org
SUMMARY:Come celebrate the life of Co-Founder and Anchor of ACT\, Ed Roebuck
DESCRIPTION:With tender hearts\, we share that Ed Roebuck\, the beloved husband of our founder\, Linda Roebuck\, made his sacred transition into Spirit on May 2. \nEd was a cherished part of our community—his presence\, kindness\, and quiet strength touched many. As we honor his journey onward\, we also hold Linda and their family in our prayers and hearts during this sacred time. \nWe know that Ed would not want us to be sad and instead would want us to celebrate not only his life but life itself. His family is holding a Celebration on June 28. You are invited. Details are below: \nACT is setting up a special fund in Ed’s name. You may donate to this fund here: \n\n\n\n 
URL:https://actannapolis.org/event/celebrate-the-life-of-co-founder-and-anchor-of-act-ed-roebuck/
LOCATION:Unity by the Bay\, 4 Pointless Forest Trail\, Annapolis\, MD\, 21409\, United States
CATEGORIES:ACT Event,Special Celebrations
GEO:39.0275316;-76.457722
X-APPLE-STRUCTURED-LOCATION;VALUE=URI;X-ADDRESS=Unity by the Bay 4 Pointless Forest Trail Annapolis MD 21409 United States;X-APPLE-RADIUS=500;X-TITLE=4 Pointless Forest Trail:geo:-76.457722,39.0275316
END:VEVENT
END:VCALENDAR